BEGIN:VCALENDAR
VERSION:2.0
PRODID:-//etas.ee - ECPv6.15.20//NONSGML v1.0//EN
CALSCALE:GREGORIAN
METHOD:PUBLISH
X-ORIGINAL-URL:https://etas.ee
X-WR-CALDESC:Events for etas.ee
REFRESH-INTERVAL;VALUE=DURATION:PT1H
X-Robots-Tag:noindex
X-PUBLISHED-TTL:PT1H
BEGIN:VTIMEZONE
TZID:Europe/Moscow
BEGIN:STANDARD
TZOFFSETFROM:+0300
TZOFFSETTO:+0300
TZNAME:MSK
DTSTART:20230101T000000
END:STANDARD
END:VTIMEZONE
BEGIN:VTIMEZONE
TZID:Europe/Tallinn
BEGIN:DAYLIGHT
TZOFFSETFROM:+0200
TZOFFSETTO:+0300
TZNAME:EEST
DTSTART:20240331T010000
END:DAYLIGHT
BEGIN:STANDARD
TZOFFSETFROM:+0300
TZOFFSETTO:+0200
TZNAME:EET
DTSTART:20241027T010000
END:STANDARD
BEGIN:DAYLIGHT
TZOFFSETFROM:+0200
TZOFFSETTO:+0300
TZNAME:EEST
DTSTART:20250330T010000
END:DAYLIGHT
BEGIN:STANDARD
TZOFFSETFROM:+0300
TZOFFSETTO:+0200
TZNAME:EET
DTSTART:20251026T010000
END:STANDARD
BEGIN:DAYLIGHT
TZOFFSETFROM:+0200
TZOFFSETTO:+0300
TZNAME:EEST
DTSTART:20260329T010000
END:DAYLIGHT
BEGIN:STANDARD
TZOFFSETFROM:+0300
TZOFFSETTO:+0200
TZNAME:EET
DTSTART:20261025T010000
END:STANDARD
END:VTIMEZONE
BEGIN:VTIMEZONE
TZID:UTC
BEGIN:STANDARD
TZOFFSETFROM:+0000
TZOFFSETTO:+0000
TZNAME:UTC
DTSTART:20230101T000000
END:STANDARD
END:VTIMEZONE
BEGIN:VEVENT
DTSTART;TZID=Europe/Moscow:20260417T100000
DTEND;TZID=Europe/Moscow:20260417T170000
DTSTAMP:20260423T215400
CREATED:20260209T095539Z
LAST-MODIFIED:20260414T080151Z
UID:26680-1776420000-1776445200@etas.ee
SUMMARY:Taastusravi kevadkonverents 2026
DESCRIPTION:17. aprill 2026 Tallinn \nTaastusravi Kevadkonverents 2026. Tehnoloogia taastusravis: diagnostikast ravideni \nToimumiskoht: Eesti Rahvusraamatukogu konverentsisaal\nTallinn Tõnismäe 2\, www.rara.ee \nOsalustasud:\nETAS liikmetele ja residentidele 40 eur\, üliõpilastele 30 eurot\,  tavapilet 60 eurot \nOsavõtutasu kanda Eesti Taastusarstide arveldusarvele EE022200221020164763 Swedbankis. Palun lisada selgitusse kindlasti Kevadkonverents ja osaleja NIMI \nPäevakava ja registreerumine: https://forms.gle/uUXZAKxLWKLX4k6TA \n  \nSponsorid: \n                                    
URL:https://etas.ee/koolitus/26680/
CATEGORIES:Kohapeal
ATTACH;FMTTYPE=image/jpeg:https://etas.ee/wp-content/uploads/2026/02/629372561_33461631943479992_245202812081658482_n-1.jpg
END:VEVENT
BEGIN:VEVENT
DTSTART;VALUE=DATE:20250509
DTEND;VALUE=DATE:20250511
DTSTAMP:20260423T215400
CREATED:20250106T074724Z
LAST-MODIFIED:20250508T052750Z
UID:26349-1746748800-1746921599@etas.ee
SUMMARY:Kevadkonverents 2025: \,\,Kroonilise valuravi korraldus ja teenused - mida õppida teistelt?"
DESCRIPTION:9-10.mai.2025 Toila \nEesti Taastusarstide Seltsi konverents koos Eesti Valu Seltsiga \n\n\nOsavõtutasu ETAS ja EVS Liikmele 60 eur\, mitteliikmele 90 eur\, lektoritele ja arstitudengitele tasuta. Arve saamiseks palun kirjutage arved@etas.ee. Majutust saab endale broneerida admin@toilaspa.ee parool ETAS. Hind kaheses toas 99 ja üheses 78 eur. \nRegistreerumine: https://forms.gle/CM7bPeQuoDs5otWi9 \nKAVA: https://docs.google.com/document/
URL:https://etas.ee/koolitus/kroonilise-valuravi-korraldus-ja-teenused-mida-oppida-teistelt/
LOCATION:Toila Spa
CATEGORIES:Kohapeal
ATTACH;FMTTYPE=image/png:https://etas.ee/wp-content/uploads/2025/01/download.png
END:VEVENT
BEGIN:VEVENT
DTSTART;TZID=Europe/Moscow:20241206T100000
DTEND;TZID=Europe/Moscow:20241207T180000
DTSTAMP:20260423T215400
CREATED:20240909T050707Z
LAST-MODIFIED:20241114T150449Z
UID:26214-1733479200-1733594400@etas.ee
SUMMARY:Muskuloskeletaarne ultraheli koolitus 6.-7. detsember 2024
DESCRIPTION:MD PhD Assoc Prof Saulius Rutkauskas on lõpetanud residentuuri Leedu Ülikoolis meditsiini teaduskonnas 2009a radioloogia erialal. Ta on Muskuloskeletaardiagnostika ultraheli seltsi juhataja ning on organiseerinud üle 80 ultraheli seminari ja koolitust. MD PhD Assoc Prof Saulius Rutkauskas on Muskuloskeletaarse Radioloogia Euroopa Seltsi liige (ESSR) ja Euroopa Radioloogia Seltsi liige ning läbi viinud mitmeid ultraheli koolitusi nii Soomes\, Eestis\, Lätis\, Itaalias\, Hollandis\, Indias\, Kolumbias ja Ameerikas. \nProgramm:\nMusculoskeletal ultrasound anatomy and pathology course for shoulder\, wrist\, hip and knee\n6.-7- December 2024\n  \n1 day\n10.00–11.30 I SESSION \n10:00 – 10:30 Basics of MSK ultrasound Lecture MD PhD Saulius Rutkauskas \n10:30 – 11:00 Shoulder ultrasound anatomy Lecture and live demonstration MD PhD Saulius Rutkauskas \n11:00 – 11:30 Shoulder ultrasound Practice MD PhD Saulius Rutkauskas \n11.30–11.45 Coffee break \n11.45–13.30 II SESSION \n11:45 – 13:00 Shoulder ultrasound Practice MD PhD Saulius Rutkauskas \n13:00 – 13:30 Shoulder ultrasound pathology Lecture MD PhD Saulius Rutkauskas \n13.30–14.30 Lunch \n14.30–16.00 III SESSION \n14:30 – 15:00 Wrist ultrasound anatomy Lecture and live demonstration MD Darius Dicevicius \n15:00 – 16:00 Wrist ultrasound Practice MD Darius Dicevicius \n16.00–16.15 Coffee break \n16.15–18.00 IV SESSION \n16:15 – 16:45 Median nerve ultrasound anatomy Lecture and live demonstration MD Darius Dicevicius \n16:45 – 17:30 Median nerve ultrasound Practice MD Darius Dicevicius \n17:30 – 18:00 Wrist ultrasound pathology Lecture MD Darius Dicevicius \n2 day\n10.00–11.30 V SESSION \n10:00 – 10:45 Hip ultrasound anatomy Lecture and live demonstration MD Darius Dicevicius \n10:45 – 11:30 Hip ultrasound Practice MD Darius Dicevicius \n11.30–11.45 Coffee break \n11.45–13.30 VI SESSION \n11:45 – 13:00 Hip ultrasound Practice MD Darius Dicevicius \n13:00 – 13:30 Hip ultrasound pathology Lecture MD Darius Dicevicius \n13.30–14.30 Lunch \n14.30–16.00 VII SESSION \n14:30 – 15:00 Knee ultrasound anatomy Lecture and live demonstration MD PhD Saulius Rutkauskas \n15:00 – 16:00 Knee ultrasound Lecture MD PhD Saulius Rutkauskas \n16.00–16.15 Coffee break \n16.15–18.00 VIII SESSION \n16:15 – 17:00 Knee ultrasound Practice MD PhD Saulius Rutkauskas \n17:00 – 17:30 Knee ultrasound pathology Lecture MD PhD Saulius Rutkauskas \n17:30 – 18:00 Intervention ultrasound Lecture MD Darius Dicevicius \nKava: PDF \nKoolitus on osalejatele tasuta\, koolitust toetab MedUS Medical.\n\nKoolitus toimub algusega kell 10 Õismäe tee 179\, Tallinn https://www.keskhaigla.ee/kliinikud/oendusabikliinik\nAuto on soovitav parkida Õismäe tee äärde\, kus on tasuta parkimine.\nKoolitusele tulijad saavad sisse uksest „Õendusabikliinik“. Saal asub peauksest sisse ja vasakule\, saal I korrusel.\nGarderoob on valveta\, riided saab soovi  korral saali kaasa võtta. Kohvi\, tee\, vesi ja küpsised on kohvipauside ajal olemas. Lõunasööki Õendusabikliiniku majas ei pakuta.\nÕendusabikliinikust vasakule jääb Tervisekeskus ja seal on väga hea kohvik https://www.umile.ee/#kohvikud \, kus on võimalik lõunat süüa või lõunaks ette tellida\, et ennetada järjekorras seismist.\nLaupäeval on lähimad söögikohad 6 min autosõidu raadiuses\nhttps://cafelyon.ee/  \nhttps://moos.pereresto.ee/
URL:https://etas.ee/koolitus/muskuloskeletaarne-ultraheli-koolitus-6-7-detsember-2024/
LOCATION:Õismäe Õendusabikliinik\, Õismäe tee 179\, Tallinn\, Estonia
CATEGORIES:Kohapeal
ATTACH;FMTTYPE=image/png:https://etas.ee/wp-content/uploads/2024/09/Saulius-Rutkauskas.png
END:VEVENT
BEGIN:VEVENT
DTSTART;TZID=Europe/Moscow:20240909T090000
DTEND;TZID=Europe/Moscow:20240909T160000
DTSTAMP:20260423T215400
CREATED:20240709T165936Z
LAST-MODIFIED:20240709T165936Z
UID:26174-1725872400-1725897600@etas.ee
SUMMARY:Taastusravi konverents 2024: Ühiselt. Algusest lõpuni
DESCRIPTION:Tartu Ülikooli Kliinikumi ja Põhja-Eesti Regionaalhaigla\nTaastusravi konverents 2024\nÜhiselt. Algusest lõpuni.\n09.09.2024\nAsukoht: V-spa konverentsikeskus\, Tartu \nAJAKAVA\n9:00 Kogunemine\, registreerimine \n9:30 Avasõnad \n9:50 Füsioterapeudi roll erakorralise meditsiini osakonnas (füsioterapeut Lisette Tõnutare\, PERH) \n10:20 Respiratoorse füsioterapeudi vajalikkus kliinilises keskkonnas (füsioterapeut Janika Arras\, TÜK) \n10:50 Trahheostomeeritud patsiendi käsitlus logopeedi vaatenurgast (logopeedid Kairin Koop ja Liis Linde\, TÜK) \n11:20 Kohvipaus. Virgutuspaus. \n11:35 Psühholoogi osa taastusravi meeskonnas läbi raviteekonna(psühholoog Aire Mill\, PERH) \n12:05 Lümfitursega patsient – kas ravime turset või inimest? (taastusarst Reet Pähklamägi\, PERH) \n12.35 Indreku kogemuslugu intensiivravist koduteraapiani (intervjueerib füsioterapeut Mai Mõttus\, TÜK) \n13:00 Lõuna \n14:00 Kodune keskkond – kas mugavustsoon või treeningsaal?(tegevusterapeut Ingrid Saarmets\, PERH) \n14:30 Juhtida või mitte juhtida? Sõiduki juhtimisoskuste hindamine erinevate terviseseisundite järgselt (tegevusterapeut Heili Piilberg\, PERH) \n15:00 Füsioterapeudi iseseisev vastuvõtt (füsioterapeut Mikk Pärn\, Steliise Erakliinik) \n15.30 Multiprofessionaalse käsitluse võimalikkusest väljaspool keskusi Diskussioonis osalevad Aleksandra Kuzmina (Narva)\, Raili Sepp (Saaremaa)\, Monika Raudsepp (Tartu)\, Kadri Englas (Haapsalu)\,  Erli Lond (Viljandi)\, Varje-Riin Tuulik (ETAS). Vestlust juhib Annelii Jürgenson (taastusarst\, PERH) \n16:00 Lõpetamine \n* Korraldajad jätavad endale õiguse teha kavas täpsustusi ja muudatusi. \n  \nTöötoad (kohtade arv piiratud)  *\n10.00-11.30 Insuldijärgne käeteraapia – Heili Piilberg (PERH)\, Ingrid Saarmets (PERH) ja Mai Mõttus (TÜK) \n11.30-13.00 Loovteraapia Egle Metsis (PERH) ja Rave Puhm (PERH) \n14.00-15.30 Respiratoorne füsioteraapia –  Karine Rüütel (TÜK)\, Aira Lõhmus (TÜK) ja Elin Aunison (TÜK) \n*Töötubadesse registreerimise info edastadakse sügisel kõikidele registreerunutele meilile \nOsavõtutasu sisaldab osavõttu konverentsist\, digitaalset koolitustõendit\, kohvipause ja kerget lõunat. Konverentsile loetakse registreerituks peale osavõtutasu maksmist.\nOsalemise tühistamine: hiljem kui 7 päeva enne konverentsi toimumist osalemise tühistamise korral osalustasu ei tagastata. \nRegistreeri konverentsile siin: Koolitused | Regionaalhaigla\nKonverentsi hind 100€ +km (km-ga 122€)\n  \nLisainfo konverentsi kohta: kristi.remmik@regionaalhaigla.ee
URL:https://etas.ee/koolitus/taastusravi-konverents-2024-uhiselt-algusest-lopuni/
LOCATION:V-Spa konverentsikeskus\, Tartu\, Riia 2\, Tartu\, Tartumaa\, 51004\, Estonia
CATEGORIES:Kohapeal
END:VEVENT
BEGIN:VEVENT
DTSTART;VALUE=DATE:20240906
DTEND;VALUE=DATE:20240908
DTSTAMP:20260423T215400
CREATED:20240412T101210Z
LAST-MODIFIED:20240902T114717Z
UID:26099-1725580800-1725753599@etas.ee
SUMMARY:2024 Suveseminar & suvekool
DESCRIPTION:6-7. septembril 2024 toimub Pärnus Eesti Taastusarstide Seltsi suveseminar koos tudengite suvekooli programmiga \nÜritus on sponsoreeritud: AbbVie\, Meditsiinigrupp\, Ipsen\, Boehringer-Ingelheim\, Invaru\, NutriMedical \n  \n  \n  \nÜldinfo: \nETAS suveseminari programm algab reedel 06.09 loengutega PÄRNU HAIGLAS ja jätkub 7. septembril TERVIS RAVISPAAS. \nETAS broneeris ka 30 tuba Tervis ravispaahotellis\, Seedri 6\, Pärnu 06.09.2024- 07.09.2024. 2 päeva ETAS suveseminari osalustasu koos majutusega Tervis Spa kaheses toas ja veekeskuse külastamisega on 100 eur. Ilma majutuseta osalustasu 60 eur. Osavõtutasu tasuda ETAS arvele. Arvet küsida – arved@etas.ee. \nMajutuse broneerimine: kas toas üksi või kahekesi märgib osaleja Tervis Spa aadressil – sales@spatervis.ee või telefonil 447 9200. Kasutage parooli \,\,Taastusarst”! \nLisa raviprotseduure või spaa-hoolitsusi on võimalik eelnevalt broneerida e-posti teel medic@spatervis.ee või telefonil 447 9230. \nLisatasu üksinda toas olemise eest 30 EUR (tasumine Tervis Spaale) \nLisaöö L-P hinnaga 58 EUR (tasumine Tervis Spaale) \nRegistreerimine: https://forms.gle/xYNn7pdJBWkNdLop8 \nAJAKAVA: \nREEDE 6. sept.2024 (Pärnu Haigla) \n11.00 Teretulemast kohvi\, rootsi laud ja ravimfirmade näitus \n11.45 Avakõned. Varje-Riin Tuulik ja Kaja Elstein \n12.00 Dr. Kaja Elstein \,\,Spastilisuse käsitlus taastusravis – Pärnu Haigla näitel” \n12.15 Dr Anneli Teder-Braschinsky \,\,EFNR soovitused insuldi taastusravi eesmärkide saavutamiseks” \n12.30 Anet Kibin \,\,Trauma patsient taastusravis” \n13.00 Laura Jürgenson\, I a resident \,\,Onkoloogilise patsiendi prehabilitatsioon” \n13.30 Risto Võsaste spordimed. resident \,\,Füüsilisel koormusel kujunev larüngospasm” \n14.00 Lõuna ja ravimfirmade näitus \n14.30 \,\,Õlaliigese patoloogia” Reumatoloog dr. Andres Pille \n15.30-16.30 \n\ngrupp 10 inimest praktiline töötuba taastusarstidele\, kes kasutavad oma töös UH (max 10 inimest registreerimisel). 2 aparaati saalis. UH-toas osalemiseks tuleb registreerida eraldi dr. Anneli Teder-Braschinsky meili kaudu: anneli.tby@gmail.com\ngrupp – TERVIS ravispaa teenustega tutvumine (kell 16.00-17.00)\n\n17-19 õhtusöök TERVIS Spaas \n— \nLAUPÄEV 7.sept.2024 (Tervis Spaa)\n7.30-10 hommikusöök Tervis Spaas \n10.00 ESPRM konverentsi kokkuvõte – dr. Eve Sooba \n10.30 \,\,Taastusarstina Soomes. Kogemuslugu – mida õppida\, mida üle võtta?” dr. Lii Orunurm \n11.00 Taastusarstide ja siduserialade tagasisideküsimustikud. Statistika analüüs ja taastusravi hetkeseis – dr. Annelii Jürgenson \n11.30 Kohvilaud ja ümarlauad eriala arengu aktuaalsetel teemadel:\n1. Töörühm – Patsiendi järgmisse ravietappi suunamise kriteeriumid ja kokkulepped. Raviteekonnad. Töörühma juhib dr. Annelii Jürgenson\n2. Töörühm – Ambulatoorse taastusravi määratlus Eestis ja Euroopas. Töörühma juhib dr. Varje-Riin Tuulik\n3. Töörühm – Taastusravi kvaliteet ja ravitulemuse hindamine. Töörühma juhib dr. Aet Lukmann \n12.00 arutelude kokkuvõtted \n12.30 ETAS tööplaanid\, sh koolituste plaan – dr. Varje-Riin Tuulik \n12.45 Põhikirja muudatuste ettepanekute tutvustus \n13.00-15.00 lõuna \n  \nTudengiprogramm: suvekool Pärnus\nEesti Taastusarstide Seltsi\, Pärnu Haigla ja HNRK koostöös \nTudengitele on programm ilma ööbimiseta tasuta! \nBuss Tartust Pärnusse kell 8.00 Vanemuise eest parklast. \nBussisõitu korraldab Haapsalu Neuroloogiline Rehabilitatsioonikeskus (HNRK). Transpordi teemalised küsimused palume küsida info@hnrk.ee või telefonil 472 5400. \nBussisõidu jooksul saab teada ja arutada neurorehabilitatsiooni ning HNRK teemadel. \nPalun registreeru bussiga sõitmiseks lingil: Registreerun bussisõidule \nRegistreerumine bussisõiduks avatud kuni 4.09 kell 8.00. \n  \nREEDE 6. sept.2024 Pärnu Haigla saalis\n11.00 Teretulemast kohvi\, rootsi laud ja ravimfirmade näitus \n11.45 Avakõned. Varje-Riin Tuulik ja Kaja Elstein \n12.00 Dr. Kaja Elstein \,\,Spastilisuse käsitlus taastusravis – Pärnu Haigla näitel” \n12.15 Dr Anneli Teder-Braschinsky \,\,EFNR soovitused insuldi taastusravi eesmärkide saavutamiseks” \n12.30 Anet Kibin \,\,Trauma patsient taastusravis” \n13.00 Laura Jürgenson\, I a resident \,\,Onkoloogilise patsiendi prehabilitatsioon” \n13.30 Risto Võsaste spordimed. resident \,\,Füüsilisel koormusel kujunev larüngospasm” \n14.00 Lõuna ja ravimfirmade näitus \n14.30 \,\,Õlaliigese patoloogia” Reumatoloog dr. Andres Pille (ITK) \n15.30-16.30 taastusravi osakonna tutvustus ja meeskonnatöö töötuba – dr. Vaht ja dr. Lembit. Taastusravi osakonnas tutvustatakse botuliinteraapiat\, koormustesti\, kõrgintensiivset magnetravi\, kõrgtehnoloogilisi teraapiaseadmeid kõnni- ja tasakaalutreeninguks ning käerobotit ja \,\,tarka kinnast”. \n17-19 õhtusöök TERVIS Spaas\, võõrustab Eesti Taastusarstide Selts – tudengitele tasuta \nRegistreerimine: https://forms.gle/xYNn7pdJBWkNdLop8 \nPärnu Haigla töövarjupäev võimalik individuaalse kokkuleppega sobiva eriala arsti juures 6. septembril (kogu päeva lõikes mõne tunni kaupa). Palun anda oma soovist teada järgneval lingil: Pärnu Haigla töövarjupäev või meilile jaana.kikas@ph.ee hiljemalt 4. septembriks 2024. \nLaupäeval kl 14.30 kiigujooga näidistund füsioterapeut Anneliisiga.
URL:https://etas.ee/koolitus/suveseminar-suvekool/
LOCATION:Pärnu Haigla\, Ristiku 1\, Pärnu\, Pärnumaa\, 80010\, Estonia
CATEGORIES:Kohapeal
ATTACH;FMTTYPE=image/png:https://etas.ee/wp-content/uploads/2024/04/Suveseminarsuvekool.png
END:VEVENT
BEGIN:VEVENT
DTSTART;TZID=UTC:20240903T161500
DTEND;TZID=UTC:20240903T173000
DTSTAMP:20260423T215400
CREATED:20240419T065251Z
LAST-MODIFIED:20240827T065713Z
UID:26108-1725380100-1725384600@etas.ee
SUMMARY:Taastusravi ring: neeruhaiguste taastusravi
DESCRIPTION:03.09.2024 kell 16:15 esitab 5. kursuse arstiteaduskonna tudeng Marta Johanna Truumaa ettekande neeruhaiguste taastusravist. Aadress on Riia mnt 167\, II korruse seminariruum. Tule kuulama!
URL:https://etas.ee/koolitus/taastusravi-ring-neeruhaiguste-taastusravi/
LOCATION:Tartu Ülikooli Kliinikum Taastusravi kliinik\, Riia 167\, Tartu\, Estonia
CATEGORIES:Kohapeal
ATTACH;FMTTYPE=image/png:https://etas.ee/wp-content/uploads/2024/04/Screenshot-2024-04-19-at-12.46.55.png
END:VEVENT
END:VCALENDAR