BEGIN:VCALENDAR
VERSION:2.0
PRODID:-//etas.ee - ECPv6.15.20//NONSGML v1.0//EN
CALSCALE:GREGORIAN
METHOD:PUBLISH
X-ORIGINAL-URL:https://etas.ee
X-WR-CALDESC:Events for etas.ee
REFRESH-INTERVAL;VALUE=DURATION:PT1H
X-Robots-Tag:noindex
X-PUBLISHED-TTL:PT1H
BEGIN:VTIMEZONE
TZID:Europe/Moscow
BEGIN:STANDARD
TZOFFSETFROM:+0300
TZOFFSETTO:+0300
TZNAME:MSK
DTSTART:20240101T000000
END:STANDARD
END:VTIMEZONE
BEGIN:VTIMEZONE
TZID:UTC
BEGIN:STANDARD
TZOFFSETFROM:+0000
TZOFFSETTO:+0000
TZNAME:UTC
DTSTART:20230101T000000
END:STANDARD
END:VTIMEZONE
BEGIN:VEVENT
DTSTART;VALUE=DATE:20260323
DTEND;VALUE=DATE:20260328
DTSTAMP:20260424T005021
CREATED:20250608T135753Z
LAST-MODIFIED:20251119T122317Z
UID:26484-1774224000-1774655999@etas.ee
SUMMARY:ESPRM 2026 Krakow: \,\,The Next Generation: Collaborate. Inspire. Innovate."
DESCRIPTION:Welcome to the 25th European Congress of Physical and Rehabilitation Medicine (ESPRM2026)\n\n\n\n\nWe are excited to invite you to the 25th European Congress of Physical and Rehabilitation Medicine (ESPRM2026)\, which will be held from 23-27 March 2026 in the beautiful city of Krakow\, Poland. This premier event will bring together distinguished medical professionals\, researchers\, industry leaders\, and stakeholders from across the globe to explore the latest advancements\, innovations\, and challenges in the field of physical and rehabilitation medicine. \n\n\n\n\n\n\n\n\n\nKey Highlights of ESPRM2026:\n\nTranslating Basic Science into Clinical Practice:\nWe are committed to bridging the gap between basic science and clinical application. This Congress will feature the latest advancements across a variety of disciplines relevant to rehabilitation and physical medicine\, including applied neuroscience\, kinesiology\, neuropsychology\, bioengineering\, and more. \nMeet Tomorrow’s Technology:\nExperience groundbreaking innovations firsthand\, from the stage to the exhibition floor. Stay ahead of the curve with advancements in robotics\, telehealth\, virtual reality\, and augmented reality that are shaping the future of rehabilitation medicine. \nBuilding Collaborations:\nWe believe in the power of shared knowledge and passion. Engage with peers from around the world through discussion groups\, mentorship opportunities\, or by becoming a mentor yourself. This Congress is an ideal platform to collaborate\, exchange expertise\, and forge lasting connections. \nNext Generation Focus:\nA special emphasis will be placed on young PRM doctors\, new concepts\, and novel approaches to contemporary challenges in rehabilitation. Discover the brilliant minds shaping the future of our field and learn from the next generation of leaders. \nGet Involved:\nShape meaningful conversations and drive innovation forward by actively participating in the Congress. Submit proposals for workshops\, special sessions\, and abstracts for oral or poster presentations. Your contributions will play an integral role in creating a dynamic and engaging program. \nEnjoy the Experience:\nIn addition to enriching scientific discussions\, there will be ample opportunities to reconnect with old colleagues\, make new ones\, and immerse yourself in the vibrant culture of Krakow. Enjoy the local flavors\, unique experiences\, and the spirit of collaboration! As a valued member of our community\, your participation will be instrumental in the success of ESPRM2026. We are confident that your insights will enrich the discussions and initiatives that will shape the future of physical and rehabilitation medicine. \nWe look forward to welcoming you to ESPRM2026 and sharing this transformative experience together. Thank you for your ongoing support and dedication to advancing rehabilitation medicine. Your presence will make this event a remarkable success. \nIuly Treger\nESPRM2026 President
URL:https://etas.ee/koolitus/esprm-2026-krakow-the-next-generation-collaborate-inspire-innovate/
CATEGORIES:Rahvusvaheline
ATTACH;FMTTYPE=image/jpeg:https://etas.ee/wp-content/uploads/2025/06/esprm-25th-large-scaled-1.jpg
END:VEVENT
BEGIN:VEVENT
DTSTART;VALUE=DATE:20251103
DTEND;VALUE=DATE:20251108
DTSTAMP:20260424T005021
CREATED:20240420T115545Z
LAST-MODIFIED:20250303T180822Z
UID:26123-1762128000-1762559999@etas.ee
SUMMARY:ISPRM 2025 – 19th World Congress of the ISPRM (Marrakesh\, Morocco)
DESCRIPTION:We are honored to host the 19th ISPRM World Congress in the imperial city of Marrakesh in November 2025. This congress is a landmark event\, bringing together over 2\,000 PRM physicians\, allied health care professionals\, scientists and trainees from around the world to share the latest research\, best practices\, and innovations in physical and rehabilitation medicine. \nThe congress will highlight the unique challenges and solutions in PRM across different regions\, with a special focus on Morocco and Africa contributions to the field. Attendees can expect a dynamic program filled with keynotes\, workshops\, panel discussions\, and networking opportunities in a city known for its rich cultural heritage. Marrakech 2025 will be a unique fusion of knowledge exchange and cultural experience\, reinforcing the global commitment to advancing PRM and improving patient outcomes worldwide. Welcome to Marrakesh!
URL:https://etas.ee/koolitus/isprm-2025/
CATEGORIES:Rahvusvaheline
ATTACH;FMTTYPE=image/svg+xml:https://etas.ee/wp-content/uploads/2024/04/Charte-ISPRM25-Logo-Header-22-1.svg
END:VEVENT
BEGIN:VEVENT
DTSTART;VALUE=DATE:20250918
DTEND;VALUE=DATE:20250922
DTSTAMP:20260424T005021
CREATED:20240420T120056Z
LAST-MODIFIED:20240420T120056Z
UID:26126-1758153600-1758499199@etas.ee
SUMMARY:16th Mediterranean Congress of Physical and Rehabilitation Medicine
DESCRIPTION:“Dear Colleagues\, dear Friends\, \nfollowing the success of the 15th Congress of the Mediterranean Forum of Physical and Rehabilitation Medicine (MFPRM) with over 600 participants from 51 countries and 5 continents\, we are slowly turning toward our next MFPRM Congress. \nThe 16th MFPRM Congress will take place in from September 18-21st September 2025 in Šibenik\, Croatia. \nAll of us in the MFPRM Executive committee have few challenges ahead – to define both organizing and scientific committee\, to prepare quality scientific programme\, to organize interactive panels and workshops gathering high quality and experienced researchers and clinicians to share their knowledge with all of us. This is important to attract even more participants and allowing us to have opportunities to interact\, discuss and get to know each other – true meeting point for generations of PRM specialists. \nOur interest is related to involve PRM specialists and rehabilitation teams professionals of the Mediterranean Countries in Europe\, Middle East and Africa in high-quality scientific sessions. \nAfter several hours of continuous listening and/or discussing\, we would also like to invite you for some good social time as the surrounding environment of the conference venue is really beautiful and relaxing – true Mediterranean smells\, sounds and beautiful nature. \nWe are welcoming our PRM colleagues from different countries and various professional backgrounds – academicians\, clinicians\, researchers\, trainees – working in various PRM areas as well as other health professionals included in the rehabilitation team. \nŠibenik and Croatia are looking forward to welcoming you from 18-21st September 2025. \nCheers and ciao \n\n\nProf. Calogero Foti\nPresident of the MFPRM”
URL:https://etas.ee/koolitus/16th-mediterranean-congress-of-physical-and-rehabilitation-medicine/
LOCATION:Amadria Park\, Šibenik\, Croatia
CATEGORIES:Rahvusvaheline
ATTACH;FMTTYPE=image/png:https://etas.ee/wp-content/uploads/2024/04/new_popup.png
END:VEVENT
BEGIN:VEVENT
DTSTART;VALUE=DATE:20250828
DTEND;VALUE=DATE:20250901
DTSTAMP:20260424T005021
CREATED:20241121T070351Z
LAST-MODIFIED:20241121T070351Z
UID:26342-1756339200-1756684799@etas.ee
SUMMARY:Next Congress of the European Forum for Research in Rehabilitation
DESCRIPTION:28th – 31st August\, 2025\, in Budapest\, Hungary\, Danubius Hotel Helia \nIn representing the International Scientific Committee Membership\, we have the distinct pleasure of inviting you to the 18th Congress of the European Forum for Research in Rehabilitation\, scheduled in Budapest\, Hungary\, 28th – 31st August\, 2025. The EFRR Congress intends to share the most contemporary clinical and basic research advances in the fields of Rehabilitation with concurrent sessions combining invited discussions\, oral and abstract presentations\, a great debate and fishbowl sessions. The meeting consisted of keynote lectures\, educational workshops\, interactive sessions\, poster-oral presentations and meet-the-expert sessions of interest for both students and trainees as well as clinicians and scientists. \nThe Main topics include \n\nInternational collaboration in rehabilitation medicine and rehabilitation research\nImplementing digital methods in rehabilitation\nRobotic therapies and application of innovative technologies\nAdvances in assessment and rehabilitation of cognitive disorders after acquired brain injury\nSpeech and music therapies for individuals with aphasia\nCurrent evidence on management of spasticity\nEvidence of effectiveness of multi-disciplinary rehabilitation team\nRehabilitation after disasters\nReturn to work\nLifelong rehabilitating approach regarding long term care facilities\nRehabilitation of patients afflicted with cardiac\, vascular\, pulmonary\, immunologic\, oncologic and /or renal diseases\nRehabilitation of patients with musculoskeletal disorders\nPediatric rehabilitation\n\nThe Workshop topics include \n\nAdvances in diagnosis and rehabilitation of dysphagia\nNon-pharmacological and pharmacological management of pain in rehabilitation\nExperiences with robots in daily clinical practice\nRehabilitation interventions for patients with COPD and pulmonary fibrosis\nBotulinum toxin treatment for patients with spastic hemiplegia\nFunctional electrical stimulation for patients with spastic paraplegia\nRehabilitation patients with obesity\, cardiac rehabilitation\nHow to review an article\nStatistical analysis of longitudinal data\nStatistical process control and its application in rehabilitation\nEffectiveness of approach to pediatric spine deformities: diagnosis\, bracing and exercises\nTreatment and rehabilitation of patients with osteoporosis following bone fractures\n\nTimeline \n\nAbstract submission open: 1st Dec\, 2024\nAbstract submission deadline: 15th March\, 2025\nEnd of reviewing and notification to authors: 30th April\nPreliminary programme: 31st May\nEarly Bird registration: 15th June\nCongress: 28th – 31st August\n\nThe 18th EFRR Meeting will also be a unique opportunity to meet dear friends and to make new ones. Join us in Budapest and have a great time! \nA European Congress organised by the EFRR is held regularly in a European country. The date and place of the Congress are to be determined by the Council. Other Scientific Meetings are to be held at the discretion of the Council and may be arranged in conjunction with other organisations. \nEFRR 2025 Budapest
URL:https://etas.ee/koolitus/next-congress-of-the-european-forum-for-research-in-rehabilitation/
CATEGORIES:Rahvusvaheline
ATTACH;FMTTYPE=image/jpeg:https://etas.ee/wp-content/uploads/2024/11/budapest.jpg
END:VEVENT
BEGIN:VEVENT
DTSTART;VALUE=DATE:20240914
DTEND;VALUE=DATE:20240917
DTSTAMP:20260424T005021
CREATED:20240601T142040Z
LAST-MODIFIED:20240827T113618Z
UID:26153-1726272000-1726531199@etas.ee
SUMMARY:VIII Baltic & North Sea Congress on Physical and Rehabilitation Medicine (BNCPRM 2024)
DESCRIPTION:“When the Baltic & North Sea Forum on Physical and Rehabilitation Medicine (BNF-PRM) was founded\, the exchange of knowledge and experience in the countries of the region that have been divided by the so-called Iron Curtain for more than 50 years\, was in the center of activities and a special profile for conferences was developed. Additionally\, educational courses have been organized and the development in neighboring countries like Ukraine was supported by several activities. \nDue to restrictions to meet during the COVID-pandemic and maybe also due to the progressing alignment of rehabilitation services\, the activities of the BNF-PRM slightly decreased. However\, a very successful conference was organized in June 2022 in Tartu (Estonia). \nThe invasion of the Russian army into Ukrainian territory changed the political balance and the life situation dramatically. Military activities cause a high number of severe physical injuries and mental trauma\, both in military people and in civilians. Infrastructure is destroyed without excluding hospitals and medical centers. Furthermore\, the growing communication and collaboration of rehabilitation experts in all countries of the regions was interrupted in many aspects. \nThese are only some of the reasons why the original idea of the Baltic & North Sea Forum on Physical and Rehabilitation Medicine seems to be more important as ever and collaboration all over Europe is one of most important response to the new political situation. Reflecting this situation\, the Baltic and North Sea Conference\, held in Riga (Latvia) will be dedicated to strengthening bridges between Europe and the Baltic Region and to discuss innovation and updates on evidence based clinical practice. Besides this\, the focus will be on educational updates and practical skills development for all members of the multi-professional rehabilitation team based on the best available scientific evidence. \nWe cordially invite you to participate in the conference bringing in European experience\, best practices in the Baltic region and supporting Ukraine in strengthening its rehabilitation services.” \n  \n\n\nProf. Christoph Gutenbrunner\nPresident Elect\nRehabilitation International \n\n\nProf.  Alvydas Juocevicius\nPresident of the BNF-PRM\nCongress President \n\n\nProf. Kristian Borg\nPRM Past-president of the\nBNF-PRM
URL:https://etas.ee/koolitus/viii-baltic-north-sea-congress-on-physical-and-rehabilitation-medicine-bncprm-2024/
CATEGORIES:Rahvusvaheline
ATTACH;FMTTYPE=image/png:https://etas.ee/wp-content/uploads/2024/06/Screenshot-2024-06-01-at-20.19.58-e1724758558856.png
END:VEVENT
BEGIN:VEVENT
DTSTART;VALUE=DATE:20240613
DTEND;VALUE=DATE:20240616
DTSTAMP:20260424T005021
CREATED:20240321T130247Z
LAST-MODIFIED:20240321T130247Z
UID:26064-1718236800-1718495999@etas.ee
SUMMARY:EEMCPDM 2024
DESCRIPTION:“It is our great pleasure to invite you to participate at the 10th East European and Mediterranean Cerebral Palsy and Developmental Medicine Conference\, which will take place from 13th to 15th of June 2024 in Tallinn\, Estonia.\nOver a period of twenty years has East European and Mediterranean Cerebral Palsy and Developmental Medicine Conference evolved into a wonderful opportunity for the physicians and therapists of the region to get together with experts from around the world\, share knowledge and experience\, and discuss the latest developments in cerebral palsy and developmental medicine including musculoskeletal disorders\, comorbidities\, technological support of the rehabilitation process and neuroplasticity.\nConference topics are: \n\nBody posture and stability\nNeuromuscular diseases\nMyelomeningocele\nTransition\nRehabilitation\nOrthotics\, Robotics\nSpasticity reduction\nHip surveillance\nSocial aspects”\n\nThe organizers of the meeting are Tallinn Children’s Hospital\, Tartu University Hospital\, Charité – Berlin University Medicine\, Estonian Association of Surgeons\, American Academy for Cerebral Palsy and Developmental Medicine\, Riga Poga Rehabilitation Centre\, Katharina Scoliosis non-profit association.
URL:https://etas.ee/koolitus/eemcpdm-2024/
LOCATION:Sokos Hotel Viru\, Viru väljak 4\, Tallinn\, Eesti
CATEGORIES:Rahvusvaheline
ATTACH;FMTTYPE=image/webp:https://etas.ee/wp-content/uploads/2024/01/eemcpdm-2024-r1.webp
END:VEVENT
BEGIN:VEVENT
DTSTART;VALUE=DATE:20240601
DTEND;VALUE=DATE:20240607
DTSTAMP:20260424T005021
CREATED:20240420T115255Z
LAST-MODIFIED:20240420T115255Z
UID:26119-1717200000-1717718399@etas.ee
SUMMARY:ISPRM 2024 – 18th World Congress of the ISPRM (Sydney\, Australia)
DESCRIPTION:“Dear Colleagues\, \nThe 18th World Congress of the International Society of Physical and Rehabilitation Medicine (ISPRM) will be a major event in Sydney\, running from the 1st – 6th June 2024. It will be held in conjunction with the 7th Annual Meeting of the Rehabilitation Medicine Society of Australia and New Zealand (RMSANZ). The Congress will be a forum for the presentation of international research\, discovery and innovation in Rehabilitation Medicine. Whilst the major subgroups of clinical endeavour in the field of Rehabilitation Medicine will be covered; the conference will have a focus on the three “T’s” (trauma\, technology and timing). Trauma will include motor vehicle accidents\, domestic violence and the results of war and natural disasters. Technology will range from personal devices such as phones to robotics\, and Timing will explore topics such as Prehabilitation\, In-Reach services and when Rehabilitation should end. \nThe scientific program will include pre-congress practical workshops\, plenary sessions and themed sessions with invited speakers and selected free paper presentations. Currently\, it is planned for the Congress to be face-to-face with videoconferencing from some of the invited speakers. \nProfessor John Olver \n\n\n\n\nPresident of the 18th World Congress of the ISPRM (Sydney\, Australia)”
URL:https://etas.ee/koolitus/isprm-2024-18th-world-congress-of-the-isprm-sydney-australia/
CATEGORIES:Rahvusvaheline
ATTACH;FMTTYPE=image/jpeg:https://etas.ee/wp-content/uploads/2024/04/sydney-1.jpeg
END:VEVENT
BEGIN:VEVENT
DTSTART;VALUE=DATE:20240423
DTEND;VALUE=DATE:20240428
DTSTAMP:20260424T005021
CREATED:20240321T125611Z
LAST-MODIFIED:20240321T125611Z
UID:26058-1713830400-1714262399@etas.ee
SUMMARY:ESPRM 2024 Ljubljana
DESCRIPTION:
URL:https://etas.ee/koolitus/esprm-2024-ljubljana/
CATEGORIES:Rahvusvaheline
ATTACH;FMTTYPE=image/png:https://etas.ee/wp-content/uploads/2024/03/ESPRM_baner_2024_24_P.png
END:VEVENT
END:VCALENDAR