BEGIN:VCALENDAR
VERSION:2.0
PRODID:-//etas.ee - ECPv6.15.20//NONSGML v1.0//EN
CALSCALE:GREGORIAN
METHOD:PUBLISH
X-ORIGINAL-URL:https://etas.ee
X-WR-CALDESC:Events for etas.ee
REFRESH-INTERVAL;VALUE=DURATION:PT1H
X-Robots-Tag:noindex
X-PUBLISHED-TTL:PT1H
BEGIN:VTIMEZONE
TZID:Europe/Moscow
BEGIN:STANDARD
TZOFFSETFROM:+0300
TZOFFSETTO:+0300
TZNAME:MSK
DTSTART:20250101T000000
END:STANDARD
END:VTIMEZONE
BEGIN:VEVENT
DTSTART;VALUE=DATE:20260828
DTEND;VALUE=DATE:20260829
DTSTAMP:20260424T005919
CREATED:20260105T091602Z
LAST-MODIFIED:20260223T093713Z
UID:26652-1787875200-1787961599@etas.ee
SUMMARY:ETAS 2026 suveseminar Paides 28. august 2026
DESCRIPTION:Teemadeks ravijuhud ja koolituste kokkuvõtted. \nToimumiskoht https://wittenstein.ee/
URL:https://etas.ee/koolitus/etas-2026-suveseminar-paides-28-august-2026/
LOCATION:Wittenstein\, Paide
ATTACH;FMTTYPE=image/jpeg:https://etas.ee/wp-content/uploads/2026/01/Taastusravi-suveseminar.jpg
END:VEVENT
END:VCALENDAR