BEGIN:VCALENDAR
VERSION:2.0
PRODID:-//etas.ee - ECPv6.15.20//NONSGML v1.0//EN
CALSCALE:GREGORIAN
METHOD:PUBLISH
X-WR-CALNAME:etas.ee
X-ORIGINAL-URL:https://etas.ee
X-WR-CALDESC:Events for etas.ee
REFRESH-INTERVAL;VALUE=DURATION:PT1H
X-Robots-Tag:noindex
X-PUBLISHED-TTL:PT1H
BEGIN:VTIMEZONE
TZID:UTC
BEGIN:STANDARD
TZOFFSETFROM:+0000
TZOFFSETTO:+0000
TZNAME:UTC
DTSTART:20230101T000000
END:STANDARD
END:VTIMEZONE
BEGIN:VEVENT
DTSTART;TZID=UTC:20240405T123000
DTEND;TZID=UTC:20240405T140000
DTSTAMP:20260424T022853
CREATED:20240321T124822Z
LAST-MODIFIED:20240321T124950Z
UID:26049-1712320200-1712325600@etas.ee
SUMMARY:Veebinar: Kuidas toetada keha lipödeemi ja põletiku korral?
DESCRIPTION:Veebinari esimeses osas tuleb juttu lipödeemi tekkemehhanismidest\, ravivõimalustest ja uuemast infost\, mida käsitleti 2023. aasta oktoobris toimunud esimesel lipödeemi rahvusvahelisel konverentsil. \nLipödeem on krooniline seisund\, mis esineb peaaegu eranditult naistel ja avaldub sageli valuliku rasvkoe sümmeetrilise kogunemisena jäsemetes\, säästes labakäsi ja -jalgu. Esimest korda kirjeldati lipödeemi juba 1940. aastal\, aga käsitlus jäi seejärel aastakümneteks soiku. Alles 1980. aastate lõpus ja 90ndate alguses hakkas uuesti ilmuma teadusartikleid ja hakati sellest rohkem rääkima. Tänaseks on teada\, et lipödeem on põletikuline rasvkoe rohkenemine. \nVeebinari teises osas vaatame kas ja kuidas on seotud põletiku areng toitumisega. Kuidas võib meie menüü mõjutada põletiku tekkimist ja kulgu kehas ning mida see tervisele tähendab? Missuguseid toiduaineid peaks kroonilise põletiku ja autoimmuunhaigusega inimesed eelistama\, mida vältima ning mis roll on sealjuures toidulisanditel? \nLektorid: Dr. Annika Albert-Aksjonov ning Pharma Nord Baltikumi ja Soome maajuht Mirjam Prints \nPeale registreerumist saadetakse e-mailile link\, mille kaudu saab veebinaril osaleda.
URL:https://etas.ee/koolitus/veebinar-kuidas-toetada-keha-lipodeemi-ja-poletiku-korral/
LOCATION:Zoom
CATEGORIES:Veebinar
ATTACH;FMTTYPE=image/jpeg:https://etas.ee/wp-content/uploads/2024/03/Original-size-Purple-Illustrative-The-Human-Body-Presentation.jpg
END:VEVENT
END:VCALENDAR