BEGIN:VCALENDAR
VERSION:2.0
PRODID:-//etas.ee - ECPv6.15.20//NONSGML v1.0//EN
CALSCALE:GREGORIAN
METHOD:PUBLISH
X-WR-CALNAME:etas.ee
X-ORIGINAL-URL:https://etas.ee
X-WR-CALDESC:Events for etas.ee
REFRESH-INTERVAL;VALUE=DURATION:PT1H
X-Robots-Tag:noindex
X-PUBLISHED-TTL:PT1H
BEGIN:VTIMEZONE
TZID:Europe/Moscow
BEGIN:STANDARD
TZOFFSETFROM:+0300
TZOFFSETTO:+0300
TZNAME:MSK
DTSTART:20240101T000000
END:STANDARD
END:VTIMEZONE
BEGIN:VEVENT
DTSTART;VALUE=DATE:20251009
DTEND;VALUE=DATE:20251011
DTSTAMP:20260424T020748
CREATED:20250516T062300Z
LAST-MODIFIED:20250516T062300Z
UID:26462-1759968000-1760140799@etas.ee
SUMMARY:KUTSE: Konverents “Young Athletes in Sports” 9.-10.10.2025 Tallinnas
DESCRIPTION:Konverents toimub koostöös Eesti Spordimeditsiini föderatsiooniga ja füsioterapeutidega.\nKonverents on mõeldud ortopeedidele\, spordiarstidele\, füsioterapeutidele\,  treeneritele ja kõigile\, kellele pakub antud valdkond huvi.\nPeamisteks teemadeks on noorte spordivigastuste ennetamine ja vigastuste konservatiivne ning operatiivne ravi.
URL:https://etas.ee/koolitus/kutse-konverents-young-athletes-in-sports-9-10-10-2025-tallinnas/
ATTACH;FMTTYPE=image/webp:https://etas.ee/wp-content/uploads/2025/05/YOUNG-athletes-in-sports-konverents.webp
END:VEVENT
END:VCALENDAR